BEGIN:VCALENDAR
VERSION:2.0
PRODID:Arraial da Freguesia 2025
X-WR-CALNAME:Arraial da Freguesia 2025
X-WR-TIMEZONE:Europe/Lisbon
X-PUBLISHED-TTL:P1W
BEGIN:VTIMEZONE
TZID:Europe/Lisbon
X-LIC-LOCATION:Europe/Lisbon
END:VTIMEZONE
BEGIN:VEVENT
UID:69e736fdc013b
DTSTART;VALUE=DATE:20250603
SEQUENCE:0
TRANSP:OPAQUE
DTEND;VALUE=DATE:20250604
SUMMARY:Arraial da Freguesia 2025
CLASS:PUBLIC
DESCRIPTION:E o nosso Arraial da Freguesia está de volta!! 
X-MICROSOFT-CDO-ALLDAYEVENT:TRUE
DTSTAMP:20260421T083613Z
END:VEVENT
END:VCALENDAR