BEGIN:VCALENDAR
VERSION:2.0
PRODID:Raízes de Montalvo
X-WR-CALNAME:Raízes de Montalvo
X-WR-TIMEZONE:Europe/Lisbon
X-PUBLISHED-TTL:P1W
BEGIN:VTIMEZONE
TZID:Europe/Lisbon
X-LIC-LOCATION:Europe/Lisbon
END:VTIMEZONE
BEGIN:VEVENT
UID:69e8927e0b085
DTSTART;VALUE=DATE:20260309
SEQUENCE:0
TRANSP:OPAQUE
DTEND;VALUE=DATE:20260310
SUMMARY:Raízes de Montalvo
CLASS:PUBLIC
DESCRIPTION:Academia da mente - Grupo Raízes de MontalvoA Academia da Ment
 e é programa de intervenção que é realizado em grupo\, uma vez por sem
 ana\, com a duração de 45 minutos\, nas instalações da Escola Adães B
 ermudes na Freguesia de Montalvo\, e consiste na realização de sessões 
 de dança sénior®\, estimulação cognitiva e atividades criativas\, de 
 forma rotativa dinamizada pela Human Coop\, CRL.&nbsp\;(As sessões da Aca
 demia da mente podem realizar-se noutro local em função do número de in
 scritos e das condições atmosféricas)Atividade gratuita para residentes
  em Montalvo. Para mais informações contacte-nos através do email monta
 lvojunta@sapo.pt ou na Junta de Freguesia de Montalvo.&nbsp\;
X-MICROSOFT-CDO-ALLDAYEVENT:TRUE
DTSTAMP:20260422T091854Z
END:VEVENT
END:VCALENDAR