BEGIN:VCALENDAR
VERSION:2.0
PRODID:25 de abril 2026
X-WR-CALNAME:25 de abril 2026
X-WR-TIMEZONE:Europe/Lisbon
X-PUBLISHED-TTL:P1W
BEGIN:VTIMEZONE
TZID:Europe/Lisbon
X-LIC-LOCATION:Europe/Lisbon
END:VTIMEZONE
BEGIN:VEVENT
UID:69e5a51d4b5c2
DTSTART;VALUE=DATE:20260425
SEQUENCE:0
TRANSP:OPAQUE
DTEND;VALUE=DATE:20260426
SUMMARY:25 de abril 2026
CLASS:PUBLIC
DESCRIPTION:&nbsp\;Atividades de 25 abrilInscrições para o torneio da sue
 ca:&nbsp\;https://forms.gle/tE4msen2EVTLF2Ci6Inscrições para as corridas
 :&nbsp\;https://forms.gle/AhjaEFxwkiwf1LGBA
X-MICROSOFT-CDO-ALLDAYEVENT:TRUE
DTSTAMP:20260420T040133Z
END:VEVENT
END:VCALENDAR